BEGIN:VCALENDAR
VERSION:2.0
PRODID:-//Foreningen Dansk Vin - ECPv6.15.20//NONSGML v1.0//EN
CALSCALE:GREGORIAN
METHOD:PUBLISH
X-ORIGINAL-URL:https://vinavl.dk
X-WR-CALDESC:Begivenheder for Foreningen Dansk Vin
REFRESH-INTERVAL;VALUE=DURATION:PT1H
X-Robots-Tag:noindex
X-PUBLISHED-TTL:PT1H
BEGIN:VTIMEZONE
TZID:Europe/Copenhagen
BEGIN:DAYLIGHT
TZOFFSETFROM:+0100
TZOFFSETTO:+0200
TZNAME:CEST
DTSTART:20240331T010000
END:DAYLIGHT
BEGIN:STANDARD
TZOFFSETFROM:+0200
TZOFFSETTO:+0100
TZNAME:CET
DTSTART:20241027T010000
END:STANDARD
BEGIN:DAYLIGHT
TZOFFSETFROM:+0100
TZOFFSETTO:+0200
TZNAME:CEST
DTSTART:20250330T010000
END:DAYLIGHT
BEGIN:STANDARD
TZOFFSETFROM:+0200
TZOFFSETTO:+0100
TZNAME:CET
DTSTART:20251026T010000
END:STANDARD
BEGIN:DAYLIGHT
TZOFFSETFROM:+0100
TZOFFSETTO:+0200
TZNAME:CEST
DTSTART:20260329T010000
END:DAYLIGHT
BEGIN:STANDARD
TZOFFSETFROM:+0200
TZOFFSETTO:+0100
TZNAME:CET
DTSTART:20261025T010000
END:STANDARD
END:VTIMEZONE
BEGIN:VEVENT
DTSTART;TZID=Europe/Copenhagen:20250304T170000
DTEND;TZID=Europe/Copenhagen:20250304T170000
DTSTAMP:20260424T082938
CREATED:20250130T161224Z
LAST-MODIFIED:20250130T163036Z
UID:10000298-1741107600-1741107600@vinavl.dk
SUMMARY:Den italienske model af Kordon beskæring\, Nordsjælland
DESCRIPTION:Vi udbyder kursus i Kordon beskæring\, med særlig fokus på: \n\nTeorien bag den italienske model for Kordon beskæring\nPraktiske metoder til beskæring af unge og ældre planter\n\nTilmelding \nKURSUSPROGRAM\nUndervisningen er inspireret af den italienske beskæringsspecialist\, Marco Simonit\, som understreger\, at den italienske model af Kordon beskæringen er en blød beskæring\, der både forlænger plantens levetid og begrænser plantens sygdomme. \nI undervisningen indgår præsentation af teori og praksis ved hjælp af PowerPoint og videopræsentation. \nKURSET AFHOLDES\nDato: Tirsdag\, den 4. marts 2025 kl. 17-21\nSted: Ballerup Tennisklub\, Parkvej 9A\, 2750 Ballerup\nUnderviser: Bjarne Ingstrup.\nDeltagerpris: Kr. 575\,-\nTilmeldingsfrist: Søndag\, den 2. marts 2025 \nDeltagerprisen dækker leje af lokale\, undervisningsmateriale\, forplejning samt smagning af vine. \nBEMÆRK\nDer er begrænset deltagerantal på 12 deltagere.\nKurset gennemføres ved minimum 2 deltagere. \nKurset henvender sig til vinavlere\, som er ”begyndere og øvede”\, men for at sikre dig det bedste udbytte af kurset er det en fordel\, at du har nogen erfaring med beskæring af vinplanter. \nHar du spørgsmål til undervisningen er du velkommen til at kontakte Bjarne Ingstrup på mobil 23701613 eller mail bjarne.ingstrup@mail.tele.dk \nTilmelding
URL:https://vinavl.dk/arrangement/kordonbeskaering-20250304
LOCATION:Ballerup Tennisklub\, Parkvej 9A\, Ballerup\, 2750\, Danmark
CATEGORIES:Uddannelse
ATTACH;FMTTYPE=image/jpeg:https://vinavl.dk/wp-content/uploads/2025/01/Prune-01.jpg
ORGANIZER;CN="Bjarne Ingstrup":MAILTO:bjarne.ingstrup@mail.tele.dk
GEO:55.7322632;12.3686143
X-APPLE-STRUCTURED-LOCATION;VALUE=URI;X-ADDRESS=Ballerup Tennisklub Parkvej 9A Ballerup 2750 Danmark;X-APPLE-RADIUS=500;X-TITLE=Parkvej 9A:geo:12.3686143,55.7322632
END:VEVENT
BEGIN:VEVENT
DTSTART;TZID=Europe/Copenhagen:20250308T100000
DTEND;TZID=Europe/Copenhagen:20250308T150000
DTSTAMP:20260424T082938
CREATED:20191102T152124Z
LAST-MODIFIED:20250225T153553Z
UID:10000301-1741428000-1741446000@vinavl.dk
SUMMARY:Begynderkursus i Vinavl\, Modul 2\, 3 og 4 Sjælland
DESCRIPTION:Ved tilmelding til både modul 2\, 3 og 4 ydes der en rabat på 10%\, så prisen bliver 2.900 kr. for de tre moduler.  \nModul 2\, Anlæg af vingård\nVi gennemgår teorien men vil primært arbejde med at plante en ny vingård.\nHvad gør vi ved kommende svampeangreb i vinmarken?\nAfholdes 3. maj 2025\, kl. 10:00 til ca. 15:00\, Haslev Vingård\, Bråbyvej 56\, 4690 Haslev\nMed i prisen er frokost. \nModul 3\, Pasning af vingården\nModulet består af 3 kursusdage\, der afholdes på følgende dage: \n\nModul 3a\, Pasning af vingården\nHer vil vi arbejde med vinterbeskæring\, espalier og arbejdet i vinmarken her i foråret.\nAfholdes 8. marts 2025\, kl. 10:00 til ca. 15:00 \nMed i prisen er frokost\n \nModul 3b\, Pasning af vingården\nSommerbeskæring\, ukrudtsbekæmpelse.\nAfholdes 12. juni 2025\, kl. 19:00 til ca. 21:30\nMed i prisen er kaffe og kage.\n \nModul 3c\, Pasning af vingården\nGrønthøst\, afløvning\, opsætning af net\, rovfugle\, hvepsefælder.\nAfholdes 14. august 2025\, kl. 19:00 til ca. 21:30\nMed i prisen er kaffe og kage.\n\nAlle 3 moduler afholdes i Haslev Vingård\, Bråbyvej 56\, 4690 Haslev \nModul 4a\, Høst\nHvordan beslutter man at høste? Høst og behandling af druerne. \nAfholdes 11. oktober 2025\, kl. 10:00 til ca. 15:00. Toksværd Vingård\, Nr. Tvedevej 6\, 4684 Holme-Olstrup\nMed i prisen er frokost. \nModul 4b\, Omstikning\, presning\nBehandling af most\, og vurdering af årets høst\, Vinens kemi.\nAfholdes 1. november 2025\, kl. 10:00 til ca. 15:00 Toksværd Vingård\, Nr. Tvedevej 6\, 4684 Holme-Olstrup\nMed i prisen er frokost. \nModul 4c\, Flaskning og afslutning\nStabilisering af vinen\, tapning og fælles spisning.\nAfholdes 25. april 2026\, kl. 10:00 til ca. 15:00 Toksværd Vingård\, Nr. Tvedevej 6\, 4684 Holme-Olstrup\nMed i prisen er festmiddag. \n  \nKlik her for at læse en beskrivelse af begynderkurset. \nPris pr. deltager for alle tre moduler kr. 2.900. \nAntal deltagere max 12. \nKursusleder og kontaktperson: Søren Rasmusen sr@vinavl.dk tlf. 3027 2635\nInstruktører: Jesper Rye Jensen\, Frederik Bjørk\, Lars Holt og Søren Rasmussen \nSidste frist for tilmelding: Lørdag den 6. marts 2025 \nTilmelding
URL:https://vinavl.dk/arrangement/begynderkursus-i-vinavl-modul-3c-pasning-af-vingaarden-234-20250308
LOCATION:Bråbyvej 56\, 4690 Haslev\, Bråbyvej 56\, Haslev\, 4690\, Danmark
CATEGORIES:Uddannelse
ATTACH;FMTTYPE=image/jpeg:https://vinavl.dk/wp-content/uploads/2019/02/Vinmark-juni.jpg
ORGANIZER;CN="S%C3%B8ren Rasmussen":MAILTO:sr@vinavl.dk
GEO:55.3145001;11.9580584
X-APPLE-STRUCTURED-LOCATION;VALUE=URI;X-ADDRESS=Bråbyvej 56 4690 Haslev Bråbyvej 56 Haslev 4690 Danmark;X-APPLE-RADIUS=500;X-TITLE=Bråbyvej 56:geo:11.9580584,55.3145001
END:VEVENT
BEGIN:VEVENT
DTSTART;TZID=Europe/Copenhagen:20250308T190000
DTEND;TZID=Europe/Copenhagen:20250308T213000
DTSTAMP:20260424T082938
CREATED:20191102T152124Z
LAST-MODIFIED:20250225T105822Z
UID:10000290-1741460400-1741469400@vinavl.dk
SUMMARY:Begynderkursus i Vinavl\, Modul 3\, Sjælland\, Pasning af vingården
DESCRIPTION:Modul 3\, Pasning af vingården\nModulet består af 3 kursusdage\, der afholdes på følgende dage: \n\nModul 3a\, Pasning af vingården\nHer vil vi arbejde med vinterbeskæring\, espalier og arbejdet i vinmarken her i foråret.\nAfholdes 8. marts 2025\, kl. 10:00 til ca. 15:00 \nMed i prisen er frokost\n \nModul 3b\, Pasning af vingården\nSommerbeskæring\, ukrudtsbekæmpelse.\nAfholdes 12. juni 2025\, kl. 19:00 til ca. 21:30\nMed i prisen er kaffe og kage.\n \nModul 3c\, Pasning af vingården\nGrønthøst\, afløvning\, opsætning af net\, rovfugle\, hvepsefælder.\nAfholdes 14. august 2025\, kl. 19:00 til ca. 21:30\nMed i prisen er kaffe og kage.\n\nAlle 3 moduler afholdes i Haslev Vingård\, Bråbyvej 56\, 4690 Haslev \nKlik her for at læse en beskrivelse af begynderkurset. \nPris pr. deltager for alle tre moduler kr. 1.100. \nAntal deltagere max 12. \nKursusleder og kontaktperson: Søren Rasmusen sr@vinavl.dk tlf. 3027 2635\nInstruktører: Jesper Rye Jensen\, Frederik Bjørk\, Lars Holt og Søren Rasmussen \nSidste frist for tilmelding: Lørdag den 6. marts 2025 \nTilmelding
URL:https://vinavl.dk/arrangement/begynderkursus-i-vinavl-modul-3c-pasning-af-vingaarden-20250308
LOCATION:Bråbyvej 56\, 4690 Haslev\, Bråbyvej 56\, Haslev\, 4690\, Danmark
CATEGORIES:Uddannelse
ATTACH;FMTTYPE=image/jpeg:https://vinavl.dk/wp-content/uploads/2019/02/Vinmark-juni.jpg
ORGANIZER;CN="S%C3%B8ren Rasmussen":MAILTO:sr@vinavl.dk
GEO:55.3145001;11.9580584
X-APPLE-STRUCTURED-LOCATION;VALUE=URI;X-ADDRESS=Bråbyvej 56 4690 Haslev Bråbyvej 56 Haslev 4690 Danmark;X-APPLE-RADIUS=500;X-TITLE=Bråbyvej 56:geo:11.9580584,55.3145001
END:VEVENT
BEGIN:VEVENT
DTSTART;TZID=Europe/Copenhagen:20250311T170000
DTEND;TZID=Europe/Copenhagen:20250311T170000
DTSTAMP:20260424T082938
CREATED:20250130T161224Z
LAST-MODIFIED:20250130T163225Z
UID:10000299-1741712400-1741712400@vinavl.dk
SUMMARY:Den italienske model af Kordon beskæring\, Nordsjælland
DESCRIPTION:Vi udbyder kursus i Kordon beskæring\, med særlig fokus på: \n\nTeorien bag den italienske model for Kordon beskæring\nPraktiske metoder til beskæring af unge og ældre planter\n\nTilmelding \nKURSUSPROGRAM\nUndervisningen er inspireret af den italienske beskæringsspecialist\, Marco Simonit\, som understreger\, at den italienske model af Kordon beskæringen er en blød beskæring\, der både forlænger plantens levetid og begrænser plantens sygdomme. \nI undervisningen indgår præsentation af teori og praksis ved hjælp af PowerPoint og videopræsentation. \nKURSET AFHOLDES\nDato: Tirsdag\, den 11. marts 2025 kl. 17-21\nSted: Ballerup Tennisklub\, Parkvej 9A\, 2750 Ballerup\nUnderviser: Bjarne Ingstrup.\nDeltagerpris: Kr. 575\,-\nTilmeldingsfrist: Søndag\, den 9. marts 2025 \nDeltagerprisen dækker leje af lokale\, undervisningsmateriale\, forplejning samt smagning af vine. \nBEMÆRK\nDer er begrænset deltagerantal på 12 deltagere.\nKurset gennemføres ved minimum 2 deltagere. \nKurset henvender sig til vinavlere\, som er ”begyndere og øvede”\, men for at sikre dig det bedste udbytte af kurset er det en fordel\, at du har nogen erfaring med beskæring af vinplanter. \nHar du spørgsmål til undervisningen er du velkommen til at kontakte Bjarne Ingstrup på mobil 23701613 eller mail bjarne.ingstrup@mail.tele.dk \nTilmelding
URL:https://vinavl.dk/arrangement/kordonbeskaering-20250311
LOCATION:Ballerup Tennisklub\, Parkvej 9A\, Ballerup\, 2750\, Danmark
CATEGORIES:Uddannelse
ATTACH;FMTTYPE=image/jpeg:https://vinavl.dk/wp-content/uploads/2025/01/Prune-01.jpg
ORGANIZER;CN="Bjarne Ingstrup":MAILTO:bjarne.ingstrup@mail.tele.dk
GEO:55.7322632;12.3686143
X-APPLE-STRUCTURED-LOCATION;VALUE=URI;X-ADDRESS=Ballerup Tennisklub Parkvej 9A Ballerup 2750 Danmark;X-APPLE-RADIUS=500;X-TITLE=Parkvej 9A:geo:12.3686143,55.7322632
END:VEVENT
BEGIN:VEVENT
DTSTART;TZID=Europe/Copenhagen:20250325T170000
DTEND;TZID=Europe/Copenhagen:20250325T210000
DTSTAMP:20260424T082938
CREATED:20241020T082542Z
LAST-MODIFIED:20241208T080921Z
UID:10000277-1742922000-1742936400@vinavl.dk
SUMMARY:Studiekreds 5 - De sekundære aromastoffer
DESCRIPTION:Under temaet “fra Drue til Glas” tages udvalgte emner op efter deltagernes ønsker. \nStudiekredsen består af 8 møder. Sidste frist for tilmelding til den samlede studiekreds er den 14. november.  \nLæs mere om det samlede forløb og tilmelding  \nDer er mulighed for enkeltdagstilmelding efter pladsforholdene: 350 kr. pr. gang.  \nKontakt\nCarl-Henrik Brogren på 2041 6249 eller pr. e-mail henrik@brogren.dk for yderligere oplysninger om de enkelte studiekredsemner og -indhold. \nTilmelding \nTirsdag den 25. marts 2025 kl. 17-21\nDe sekundære aromastoffer  \nFermentering på den rette måde. Valg af gær og aromastoffers dannelse under gæringen. \nTirsdag den 29. april 2025 kl. 17-21\nDe tertiære aromastoffer  \nLagringens sensoriske betydning. Sur-lie gærhydrolysens kemi. Fadlagring versus flaskelagring. Mikrooxidation igennem kapsel eller tønde \nTirsdag den 27. maj 2025 kl. 17-21\nAssemblage 1 – den svære kunst at blande vine  \nHvorfor\, hvordan\, hvornår? – en praktisk hands-on træning er planlagt med udvalgte vine/grundvine. \nTirsdag den 17. juni 2025 kl. 17-21\nAssemblage 2 – en praktisk hands-on træning på udvalgte vine fra deltagerne selv \nVi søger efter ekspertise?\nEvt. studiekreds-udflugt efter nærmere aftale
URL:https://vinavl.dk/arrangement/studiekreds-5-20250325
LOCATION:Mantziusgården\, Johan Mantziusvej 7a\, Birkerød\, 3460\, Danmark
CATEGORIES:Uddannelse
ATTACH;FMTTYPE=image/jpeg:https://vinavl.dk/wp-content/uploads/2021/10/mousserende-vin-02.jpg
ORGANIZER;CN="Carl-Henrik Brogren":MAILTO:henrik@brogren.dk
GEO:55.8417392;12.4275747
X-APPLE-STRUCTURED-LOCATION;VALUE=URI;X-ADDRESS=Mantziusgården Johan Mantziusvej 7a Birkerød 3460 Danmark;X-APPLE-RADIUS=500;X-TITLE=Johan Mantziusvej 7a:geo:12.4275747,55.8417392
END:VEVENT
END:VCALENDAR