BEGIN:VCALENDAR
VERSION:2.0
PRODID:-//Foreningen Dansk Vin - ECPv6.15.20//NONSGML v1.0//EN
CALSCALE:GREGORIAN
METHOD:PUBLISH
X-ORIGINAL-URL:https://vinavl.dk
X-WR-CALDESC:Begivenheder for Foreningen Dansk Vin
REFRESH-INTERVAL;VALUE=DURATION:PT1H
X-Robots-Tag:noindex
X-PUBLISHED-TTL:PT1H
BEGIN:VTIMEZONE
TZID:Europe/Copenhagen
BEGIN:DAYLIGHT
TZOFFSETFROM:+0100
TZOFFSETTO:+0200
TZNAME:CEST
DTSTART:20230326T010000
END:DAYLIGHT
BEGIN:STANDARD
TZOFFSETFROM:+0200
TZOFFSETTO:+0100
TZNAME:CET
DTSTART:20231029T010000
END:STANDARD
BEGIN:DAYLIGHT
TZOFFSETFROM:+0100
TZOFFSETTO:+0200
TZNAME:CEST
DTSTART:20240331T010000
END:DAYLIGHT
BEGIN:STANDARD
TZOFFSETFROM:+0200
TZOFFSETTO:+0100
TZNAME:CET
DTSTART:20241027T010000
END:STANDARD
BEGIN:DAYLIGHT
TZOFFSETFROM:+0100
TZOFFSETTO:+0200
TZNAME:CEST
DTSTART:20250330T010000
END:DAYLIGHT
BEGIN:STANDARD
TZOFFSETFROM:+0200
TZOFFSETTO:+0100
TZNAME:CET
DTSTART:20251026T010000
END:STANDARD
END:VTIMEZONE
BEGIN:VEVENT
DTSTART;TZID=Europe/Copenhagen:20240420T093000
DTEND;TZID=Europe/Copenhagen:20240420T143000
DTSTAMP:20260420T195215
CREATED:20211014T074945Z
LAST-MODIFIED:20240413T161447Z
UID:10000247-1713605400-1713623400@vinavl.dk
SUMMARY:FDV generalforsamling 2024
DESCRIPTION:Mødeindkaldelse og bestyrelsens beretning kan læses i Vinpressen 2024 nr. 1 og her på hjemmesiden\, hvor regnskabet også kan læses. \nI 2024 afholdes generalforsamlingen lørdag den 20. april på Dalum Landbrugsskole på Fyn. \nGeneralforsamlingen starter kl. 10. Der er registrering samt kaffe og lidt morgenbrød fra kl. 9.30. \nDer er frokost kl. 13. Denne koster 75 kr.\, og forudgående bestilling og betaling af frokosten skal ske på www.vinavl.dk/frokost \nForslag fra medlemmerne til behandling på generalforsamlingen skal indsendes senest den 6. april til Formanden\, hm@vinavl.dk  \nDer er ikke indkommet forslag fra medlemmerne til behandling på generalforsamlingen. \nUnder dagsordenens punkt 8 foreslår bestyrelsen følgende vedr. fastsættelse af kontingenternes størrelse: \n\nKontingentet er fra 2025 kr. 525 for alle medlemmer. For erhvervsmedlemmer opkræves tillige et tillægskontingent.\nTillægskontingentet opkræves således:\n\nFor en produktion indtil 3.000 l: kr. 1.000\nFor en produktion mellem 3.000 l og 10.000 l: kr. 1.750\nFor en produktion herover: kr. 2.500\nFor erhvervsmedlemmer tillægges kontingenterne moms.
URL:https://vinavl.dk/arrangement/fdv-generalforsamling-2024
CATEGORIES:FDV arrangementer,Foreningsmøder
ATTACH;FMTTYPE=image/jpeg:https://vinavl.dk/wp-content/uploads/2021/02/Generalforsamling-2021-01.jpg
ORGANIZER;CN="FDV":MAILTO:sekretariatet@vinavl.dk
END:VEVENT
END:VCALENDAR