BEGIN:VCALENDAR
VERSION:2.0
PRODID:-//Foreningen Dansk Vin - ECPv6.15.20//NONSGML v1.0//EN
CALSCALE:GREGORIAN
METHOD:PUBLISH
X-ORIGINAL-URL:https://vinavl.dk
X-WR-CALDESC:Begivenheder for Foreningen Dansk Vin
REFRESH-INTERVAL;VALUE=DURATION:PT1H
X-Robots-Tag:noindex
X-PUBLISHED-TTL:PT1H
BEGIN:VTIMEZONE
TZID:Europe/Copenhagen
BEGIN:DAYLIGHT
TZOFFSETFROM:+0100
TZOFFSETTO:+0200
TZNAME:CEST
DTSTART:20230326T010000
END:DAYLIGHT
BEGIN:STANDARD
TZOFFSETFROM:+0200
TZOFFSETTO:+0100
TZNAME:CET
DTSTART:20231029T010000
END:STANDARD
BEGIN:DAYLIGHT
TZOFFSETFROM:+0100
TZOFFSETTO:+0200
TZNAME:CEST
DTSTART:20240331T010000
END:DAYLIGHT
BEGIN:STANDARD
TZOFFSETFROM:+0200
TZOFFSETTO:+0100
TZNAME:CET
DTSTART:20241027T010000
END:STANDARD
BEGIN:DAYLIGHT
TZOFFSETFROM:+0100
TZOFFSETTO:+0200
TZNAME:CEST
DTSTART:20250330T010000
END:DAYLIGHT
BEGIN:STANDARD
TZOFFSETFROM:+0200
TZOFFSETTO:+0100
TZNAME:CET
DTSTART:20251026T010000
END:STANDARD
END:VTIMEZONE
BEGIN:VEVENT
DTSTART;TZID=Europe/Copenhagen:20240203T093000
DTEND;TZID=Europe/Copenhagen:20240203T160000
DTSTAMP:20260420T231159
CREATED:20211014T073213Z
LAST-MODIFIED:20240203T081104Z
UID:10000246-1706952600-1706976000@vinavl.dk
SUMMARY:Landsmøde for lokalgruppekontakter m.fl.
DESCRIPTION:Igen i år afholder lokalgruppeformænd\, udvalgsformænd og bestyrelsen formandsmøde. Mødet afholdes på Fyn. \nFormålet med mødet er at lokalgruppeformænd\, udvalgsformænd og bestyrelsen mødes og udveksler erfaringer og tanker\, så der kan sikres en endnu bedre servicering af foreningens medlemmer. \nFormandsmødet har været afholdt i over 15 år. I starten på Sjælland og de sidste mange på Fyn af hensyn til deltagere fra alle lokalgrupper i FDV. \nVi checker ind til en kop morgenkaffe mellem 9:30 og 10:00 og kaster os så over følgende: \n\n10:00: VELKOMST v. FORMANDEN for FORMÆNDENE \n \nPRÆSENTATIONSRUNDE\nDenne er kort\, og bare med navn og tilhørsforhold. Samt hvor mange medlemmer I har i jeres gruppe.\n \nLOKAL- og ERFA-GRUPPERNES TID:\n\nHVAD RØRER SIG HOS DIG LIGE NU?\nHer får du tid til at fortælle om de aktiviteter\, du og din gruppe:\n1. har haft siden sidste gang vi var samlet\n2. har gang i lige nu\n3. har planer eller tanker om at initiere i fremtiden. \n \nHVAD ØNSKER DU\, AT FDV BYDER IND MED? \nHer vil I komme ud i teams\, hvor I kan drøfte\, hvilke områder I vurderer\, FDV som forening eller FDVs bestyrelse\, eller FDVs enkeltudvalg eller FDV … kan bidrage til jeres lokale arbejde og aktiviteter.\nHer må I også gerne drøfte\, om der er områder\, som I vurderer hæmmer FDV’s strategi om at øge medlemstilgangen og gøre dansk vin mere kendt.\n \nHVAD KAN DIN GRUPPE BYDE IND MED? \nIgen i et gruppearbejde\, nu i en ny konstellation\, hvor I drøfter\, hvilke områder I vurderer\, jeres grupper vil kunne støtte FDV strategi om at dels gøre dansk vin mere kendt\, dels at øge medlemstilgangen.\n \n\n\nFDV TID:\n\nHVAD RØRER DER SIG LIGE NU? \nHer er bestyrelsen på og orienterer om hvad der sker i øjeblikket\n \nVINSKUET 2024\nVinskueudvalget har som bekendt haft formandsskifte. Søren R er udskiftet med Søren R\, som vil orientere om nye tanker og planer med vores Vinskue for 2024.\n  \nFORSIKRING AF VINMARK OG PLANTAGE\nKort status om dette.\n\n\n\nNLT 15:45: AFSLUTNING
URL:https://vinavl.dk/arrangement/lokalgruppe-erfagruppe-og-udvalgsformandsmoede-24
CATEGORIES:Foreningsmøder
ATTACH;FMTTYPE=image/jpeg:https://vinavl.dk/wp-content/uploads/2017/03/DSCF8057-pshdr-r-web.jpg
ORGANIZER;CN="FDV":MAILTO:sekretariatet@vinavl.dk
END:VEVENT
BEGIN:VEVENT
DTSTART;TZID=Europe/Copenhagen:20240205T100000
DTEND;TZID=Europe/Copenhagen:20240205T143000
DTSTAMP:20260420T231159
CREATED:20231129T201745Z
LAST-MODIFIED:20231129T203915Z
UID:10000258-1707127200-1707143400@vinavl.dk
SUMMARY:ERFA møde for erhvervsmedlemmer
DESCRIPTION:Kom med i vores nye erhvervsnetværk\nEr du erhvervsmedlem\, så har foreningen taget initiativ til et særligt forum for erhvervsmedlemmerne\, og der er inviteret til de første to møder henholdsvis øst og vest for Storebælt. \nMålet med møderne er dels erfaringsudveksling og dels at drøfte de mange fælles udfordringer\, som vi har\, når vi skal drive en sund forretning uden problemer med lovgivningen. \nDet er det nye Erhvervsudvalg (fusion af Salg-\, Marketing- og Myndighedsudvalg)\, der står for det praktiske med mødeindkaldelse og facilitering af selve møderne. Men ellers er det vores intention\, at vi sammen får fastlagt mødeform\, frekvens og ikke mindst indhold. \nOplægget fra udvalget er\, at vi etablerer 2 ERFA grupper\, et øst og et vest for Storebælt\, at møderne holdes hos forskellige erhvervsmedlemmer\, så vi i forbindelse med netværksmøderne har lejlighed til at få en rundvisning\, hvilket erfaringsmæssigt altid giver anledning til en masse erfaringsudveksling. \nNogle af de emner\, som vi har planlagt at tale om på første møde er: \n\nFælles tiltag for fremme af dansk vin\, cider\, frugtvin og mjød i forhold til danske restauranter\nFælles deltagelse i messer\, folkemøde\, dyrskuer etc.\nHvordan administrerer vi de nye regler med udvidet emballageansvar og mulighed for tilmelding til Dansk Returpant\nHvad skal der til for at leve op til de nye mærkningskrav om næringsindhold\nHvordan skal foreningen forholde sig med høringssvar. Aktuelt i forhold til ansøgninger om BOB vin\n\nDet første møde holdes mandag 22. januar kl. 10.00 øst for Storebælt på Vesterhave Vingård i Karrebæksminde. Hvis man gerne vil deltage her\, så send mail til Jesper: mail@vesterhavegaarden.dk Tilmelding senest lørdag 20. januar \nDet næste møde holdes mandag 5. februar kl. 10.00 på Neder Kjærholm Vingård ved Kjellerup. Hvis man gerne vil deltage her\, så send mail til Carsten – info@nkvingaard.dk Tilmelding senest lørdag 3. februar
URL:https://vinavl.dk/arrangement/erfa-moede-for-erhvervsmedlemmer-20240205
LOCATION:Neder Kjærsholm Vingård\, Vattrupvej 28\, Kjellerup\, 8620\, Danmark
CATEGORIES:Foreningsmøder
ATTACH;FMTTYPE=image/jpeg:https://vinavl.dk/wp-content/uploads/2023/11/Vinglas-flaske.jpg
GEO:56.2887204;9.3504501
X-APPLE-STRUCTURED-LOCATION;VALUE=URI;X-ADDRESS=Neder Kjærsholm Vingård Vattrupvej 28 Kjellerup 8620 Danmark;X-APPLE-RADIUS=500;X-TITLE=Vattrupvej 28:geo:9.3504501,56.2887204
END:VEVENT
END:VCALENDAR