BEGIN:VCALENDAR
VERSION:2.0
PRODID:-//Foreningen Dansk Vin - ECPv6.15.20//NONSGML v1.0//EN
CALSCALE:GREGORIAN
METHOD:PUBLISH
X-ORIGINAL-URL:https://vinavl.dk
X-WR-CALDESC:Begivenheder for Foreningen Dansk Vin
REFRESH-INTERVAL;VALUE=DURATION:PT1H
X-Robots-Tag:noindex
X-PUBLISHED-TTL:PT1H
BEGIN:VTIMEZONE
TZID:Europe/Copenhagen
BEGIN:DAYLIGHT
TZOFFSETFROM:+0100
TZOFFSETTO:+0200
TZNAME:CEST
DTSTART:20220327T010000
END:DAYLIGHT
BEGIN:STANDARD
TZOFFSETFROM:+0200
TZOFFSETTO:+0100
TZNAME:CET
DTSTART:20221030T010000
END:STANDARD
BEGIN:DAYLIGHT
TZOFFSETFROM:+0100
TZOFFSETTO:+0200
TZNAME:CEST
DTSTART:20230326T010000
END:DAYLIGHT
BEGIN:STANDARD
TZOFFSETFROM:+0200
TZOFFSETTO:+0100
TZNAME:CET
DTSTART:20231029T010000
END:STANDARD
BEGIN:DAYLIGHT
TZOFFSETFROM:+0100
TZOFFSETTO:+0200
TZNAME:CEST
DTSTART:20240331T010000
END:DAYLIGHT
BEGIN:STANDARD
TZOFFSETFROM:+0200
TZOFFSETTO:+0100
TZNAME:CET
DTSTART:20241027T010000
END:STANDARD
END:VTIMEZONE
BEGIN:VEVENT
DTSTART;TZID=Europe/Copenhagen:20230429T093000
DTEND;TZID=Europe/Copenhagen:20230429T143000
DTSTAMP:20260421T152211
CREATED:20211014T074945Z
LAST-MODIFIED:20230128T063116Z
UID:10000226-1682760600-1682778600@vinavl.dk
SUMMARY:FDV generalforsamling 2023
DESCRIPTION:Lørdag den 29. april 2022 kl. 9.30-14.30 på Dalum Landbrugsskole\, Landbrugsvej 65\, 5260 Odense S. \nMødeindkaldelse og bestyrelsens beretning kommer i februarnummeret af Vinpressen og her på hjemmesiden.
URL:https://vinavl.dk/arrangement/fdv-generalforsamling-2023
LOCATION:Dalum Landbrugsskole\, Landbrugsvej 65\, Odense S\, 5260\, Danmark
CATEGORIES:Foreningsmøder
ATTACH;FMTTYPE=image/jpeg:https://vinavl.dk/wp-content/uploads/2021/02/Generalforsamling-2021-01.jpg
ORGANIZER;CN="FDV":MAILTO:sekretariatet@vinavl.dk
GEO:55.3659566;10.3956187
X-APPLE-STRUCTURED-LOCATION;VALUE=URI;X-ADDRESS=Dalum Landbrugsskole Landbrugsvej 65 Odense S 5260 Danmark;X-APPLE-RADIUS=500;X-TITLE=Landbrugsvej 65:geo:10.3956187,55.3659566
END:VEVENT
END:VCALENDAR