BEGIN:VCALENDAR
VERSION:2.0
PRODID:-//Foreningen Dansk Vin - ECPv6.15.20//NONSGML v1.0//EN
CALSCALE:GREGORIAN
METHOD:PUBLISH
X-ORIGINAL-URL:https://vinavl.dk
X-WR-CALDESC:Begivenheder for Foreningen Dansk Vin
REFRESH-INTERVAL;VALUE=DURATION:PT1H
X-Robots-Tag:noindex
X-PUBLISHED-TTL:PT1H
BEGIN:VTIMEZONE
TZID:Europe/Copenhagen
BEGIN:DAYLIGHT
TZOFFSETFROM:+0100
TZOFFSETTO:+0200
TZNAME:CEST
DTSTART:20220327T010000
END:DAYLIGHT
BEGIN:STANDARD
TZOFFSETFROM:+0200
TZOFFSETTO:+0100
TZNAME:CET
DTSTART:20221030T010000
END:STANDARD
BEGIN:DAYLIGHT
TZOFFSETFROM:+0100
TZOFFSETTO:+0200
TZNAME:CEST
DTSTART:20230326T010000
END:DAYLIGHT
BEGIN:STANDARD
TZOFFSETFROM:+0200
TZOFFSETTO:+0100
TZNAME:CET
DTSTART:20231029T010000
END:STANDARD
BEGIN:DAYLIGHT
TZOFFSETFROM:+0100
TZOFFSETTO:+0200
TZNAME:CEST
DTSTART:20240331T010000
END:DAYLIGHT
BEGIN:STANDARD
TZOFFSETFROM:+0200
TZOFFSETTO:+0100
TZNAME:CET
DTSTART:20241027T010000
END:STANDARD
END:VTIMEZONE
BEGIN:VEVENT
DTSTART;TZID=Europe/Copenhagen:20230318T093000
DTEND;TZID=Europe/Copenhagen:20230318T160000
DTSTAMP:20260421T164902
CREATED:20211014T073213Z
LAST-MODIFIED:20230304T101957Z
UID:10000230-1679131800-1679155200@vinavl.dk
SUMMARY:Landsmøde for lokalgruppekontakter m.fl.
DESCRIPTION:Lørdag den 18. marts 2023 kl. 9.30-16.00. \nBemærk: Den oprindelige annoncerede dato den 4/2 er ændret til den 18. marts. \nIgen i år afholder lokalgruppeformænd\, udvalgsformænd og bestyrelsen formandsmøde på Dalum Landbrugsskole\, Fyn. \nFormålet med mødet er at lokalgruppeformænd\, udvalgsformænd og bestyrelsen mødes og udveksler erfaringer og tanker\, så der kan sikres en endnu bedre servicering af foreningens medlemmer. \nFormandsmødet har været afholdt i over 15 år. I starten på Sjælland og de sidste mange på Fyn af hensyn til deltagere fra alle lokalgrupper i FDV. \nEmnerne ved dette års formandsmøde er: \n\nErfaringer fra sidst\nkursustilbud afholdt i 2022. Herunder hvilke kurser\, hvor de blev afholdt og hvor mange medlemmer deltog.\nKursustilbud i 2023. Herunder emner\, antal og hvor i landet de afholdes.\nOpfølgning på instruktørkursus afholdt 18. juni på Fyn. Hvad lærte vi og hvad kan vi blive bedre til?\nIndlæg fra biavlerforeningen vedr deres organisation\, opbygning i lokalgrupper og aktiviteter i lokalgrupper.
URL:https://vinavl.dk/arrangement/lokalgruppe-erfagruppe-og-udvalgsformandsmoede-23
LOCATION:Dalum Landbrugsskole\, Landbrugsvej 65\, Odense S\, 5260\, Danmark
CATEGORIES:Foreningsmøder
ATTACH;FMTTYPE=image/jpeg:https://vinavl.dk/wp-content/uploads/2017/03/DSCF8057-pshdr-r-web.jpg
ORGANIZER;CN="FDV":MAILTO:sekretariatet@vinavl.dk
GEO:55.3659566;10.3956187
X-APPLE-STRUCTURED-LOCATION;VALUE=URI;X-ADDRESS=Dalum Landbrugsskole Landbrugsvej 65 Odense S 5260 Danmark;X-APPLE-RADIUS=500;X-TITLE=Landbrugsvej 65:geo:10.3956187,55.3659566
END:VEVENT
END:VCALENDAR