BEGIN:VCALENDAR
VERSION:2.0
PRODID:-//Foreningen Dansk Vin - ECPv6.15.20//NONSGML v1.0//EN
CALSCALE:GREGORIAN
METHOD:PUBLISH
X-WR-CALNAME:Foreningen Dansk Vin
X-ORIGINAL-URL:https://vinavl.dk
X-WR-CALDESC:Begivenheder for Foreningen Dansk Vin
REFRESH-INTERVAL;VALUE=DURATION:PT1H
X-Robots-Tag:noindex
X-PUBLISHED-TTL:PT1H
BEGIN:VTIMEZONE
TZID:Europe/Copenhagen
BEGIN:DAYLIGHT
TZOFFSETFROM:+0100
TZOFFSETTO:+0200
TZNAME:CEST
DTSTART:20230326T010000
END:DAYLIGHT
BEGIN:STANDARD
TZOFFSETFROM:+0200
TZOFFSETTO:+0100
TZNAME:CET
DTSTART:20231029T010000
END:STANDARD
BEGIN:DAYLIGHT
TZOFFSETFROM:+0100
TZOFFSETTO:+0200
TZNAME:CEST
DTSTART:20240331T010000
END:DAYLIGHT
BEGIN:STANDARD
TZOFFSETFROM:+0200
TZOFFSETTO:+0100
TZNAME:CET
DTSTART:20241027T010000
END:STANDARD
BEGIN:DAYLIGHT
TZOFFSETFROM:+0100
TZOFFSETTO:+0200
TZNAME:CEST
DTSTART:20250330T010000
END:DAYLIGHT
BEGIN:STANDARD
TZOFFSETFROM:+0200
TZOFFSETTO:+0100
TZNAME:CET
DTSTART:20251026T010000
END:STANDARD
END:VTIMEZONE
BEGIN:VEVENT
DTSTART;TZID=Europe/Copenhagen:20241012T140000
DTEND;TZID=Europe/Copenhagen:20241012T150000
DTSTAMP:20260421T154353
CREATED:20241009T045103Z
LAST-MODIFIED:20241009T182218Z
UID:10000270-1728741600-1728745200@vinavl.dk
SUMMARY:Æblefestival 2024
DESCRIPTION:Assens Trælade danner den unikke og smukke ramme om ciderkonkurrencen og andre spændende æbleaktiviteter i Assens by. \nVil du deltage i konkurrencen\, så indlever mindst 1 liter cider på mindst to flasker til Æblefestival Assens Kommune\, c/o Klaus Ankerstjerne Eriksen\,\nMagtenbøllevej 78\, 5492 Vissenbjerg senest mandag den 23. september. \nI år afslører vi vinderne af ciderkonkurrencen i de historiske og oplevelsesrige omgivelser i Plums Trælade\, Østergade 38\, 5610 Assens. De gode cidere præsenteres lørdag d. 12. oktober kl. 14:00. I år har vi inddelt konkurrencen i tre kategorier: en for den søde cider\, en for den tørre cider og en for den specielle cider \nPå hjemmesiden www.aeblefestivalassens.dk kan du læse betingelser og andre praktiske oplysninger. \nKontakt: Klaus Ankerstjerne Eriksen\, tlf. 2086 5492\, klaus@magtenboelle.com
URL:https://vinavl.dk/arrangement/aeblefestival-2024/
CATEGORIES:Eksterne arrangementer
ATTACH;FMTTYPE=image/jpeg:https://vinavl.dk/wp-content/uploads/2024/10/aebleritrilleboer_s300.jpg
END:VEVENT
END:VCALENDAR